BEGIN:VCALENDAR
VERSION:2.0
PRODID:-//Anliegergemeinschaft Schieferweg//DE
CALSCALE:GREGORIAN
METHOD:PUBLISH
X-WR-CALNAME:Schieferweg - Bezirksausschuss Bad Fredeburg
X-WR-TIMEZONE:Europe/Berlin
REFRESH-INTERVAL;VALUE=DURATION:PT2H
X-PUBLISHED-TTL:PT2H
BEGIN:VEVENT
UID:1582@schieferweg.com
DTSTAMP:20260423T200608Z
DTSTART:20260109T170000
DTEND:20260109T190000
SUMMARY:Bezirksausschuss Bad Fredeburg
LOCATION:Musikbildungszentrum Südwestfalen, Raum: ..., Johannes-Hummel-Weg 1, Bad Fredeburg
DESCRIPTION:Sitzung: Bezirksausschuss Bad Fredeburg\nOrt: Musikbildungszentrum Südwestfalen, Raum: ..., Johannes-Hummel-Weg 1, Bad Fredeburg\nLink: https://ratsinfoservice.de/ris/schmallenberg/meeting/details/1582
END:VEVENT
BEGIN:VEVENT
UID:1562@schieferweg.com
DTSTAMP:20260423T200608Z
DTSTART:20250829T150000
DTEND:20250829T170000
SUMMARY:Bezirksausschuss Bad Fredeburg
LOCATION:Stadtwaldrevier Bad Fredeburg
DESCRIPTION:Sitzung: Bezirksausschuss Bad Fredeburg\nOrt: Stadtwaldrevier Bad Fredeburg\nLink: https://ratsinfoservice.de/ris/schmallenberg/meeting/details/1562
END:VEVENT
BEGIN:VEVENT
UID:1518@schieferweg.com
DTSTAMP:20260423T200608Z
DTSTART:20250226T180000
DTEND:20250226T200000
SUMMARY:Bezirksausschuss Bad Fredeburg
LOCATION:Kurhaus in Bad Fredeburg, Am Kurhaus 4
DESCRIPTION:Sitzung: Bezirksausschuss Bad Fredeburg\nOrt: Kurhaus in Bad Fredeburg, Am Kurhaus 4\nLink: https://ratsinfoservice.de/ris/schmallenberg/meeting/details/1518
END:VEVENT
BEGIN:VEVENT
UID:1484@schieferweg.com
DTSTAMP:20260423T200608Z
DTSTART:20240918T173000
DTEND:20240918T193000
SUMMARY:Bezirksausschuss Bad Fredeburg
LOCATION:Kurhaus in Bad Fredeburg, Am Kurhaus 4
DESCRIPTION:Sitzung: Bezirksausschuss Bad Fredeburg\nOrt: Kurhaus in Bad Fredeburg, Am Kurhaus 4\nLink: https://ratsinfoservice.de/ris/schmallenberg/meeting/details/1484
END:VEVENT
BEGIN:VEVENT
UID:1460@schieferweg.com
DTSTAMP:20260423T200608Z
DTSTART:20240423T180000
DTEND:20240423T200000
SUMMARY:Bezirksausschuss Bad Fredeburg
LOCATION:Kurhaus in Bad Fredeburg, Am Kurhaus 4
DESCRIPTION:Sitzung: Bezirksausschuss Bad Fredeburg\nOrt: Kurhaus in Bad Fredeburg, Am Kurhaus 4\nLink: https://ratsinfoservice.de/ris/schmallenberg/meeting/details/1460
END:VEVENT
BEGIN:VEVENT
UID:1456@schieferweg.com
DTSTAMP:20260423T200608Z
DTSTART:20240307T180000
DTEND:20240307T200000
SUMMARY:Bezirksausschuss Bad Fredeburg
LOCATION:Kurhaus in Bad Fredeburg, Am Kurhaus 4
DESCRIPTION:Sitzung: Bezirksausschuss Bad Fredeburg\nOrt: Kurhaus in Bad Fredeburg, Am Kurhaus 4\nLink: https://ratsinfoservice.de/ris/schmallenberg/meeting/details/1456
END:VEVENT
BEGIN:VEVENT
UID:1444@schieferweg.com
DTSTAMP:20260423T200608Z
DTSTART:20240228T181000
DTEND:20240228T201000
SUMMARY:Bezirksausschuss Bad Fredeburg
LOCATION:Kurhaus in Bad Fredeburg, Am Kurhaus 4
DESCRIPTION:Sitzung: Bezirksausschuss Bad Fredeburg\nOrt: Kurhaus in Bad Fredeburg, Am Kurhaus 4\nLink: https://ratsinfoservice.de/ris/schmallenberg/meeting/details/1444
END:VEVENT
BEGIN:VEVENT
UID:1416@schieferweg.com
DTSTAMP:20260423T200608Z
DTSTART:20230906T183000
DTEND:20230906T203000
SUMMARY:Bezirksausschuss Bad Fredeburg
LOCATION:Kurhaus in Bad Fredeburg, Am Kurhaus 4
DESCRIPTION:Sitzung: Bezirksausschuss Bad Fredeburg\nOrt: Kurhaus in Bad Fredeburg, Am Kurhaus 4\nLink: https://ratsinfoservice.de/ris/schmallenberg/meeting/details/1416
END:VEVENT
BEGIN:VEVENT
UID:1393@schieferweg.com
DTSTAMP:20260423T200608Z
DTSTART:20230524T170000
DTEND:20230524T190000
SUMMARY:Bezirksausschuss Bad Fredeburg
LOCATION:SauerlandBAD, Sportzentrum 1, Bad Fredeburg
DESCRIPTION:Sitzung: Bezirksausschuss Bad Fredeburg\nOrt: SauerlandBAD, Sportzentrum 1, Bad Fredeburg\nLink: https://ratsinfoservice.de/ris/schmallenberg/meeting/details/1393
END:VEVENT
BEGIN:VEVENT
UID:1374@schieferweg.com
DTSTAMP:20260423T200608Z
DTSTART:20230301T180000
DTEND:20230301T200000
SUMMARY:Bezirksausschuss Bad Fredeburg
LOCATION:Kurhaus in Bad Fredeburg, Am Kurhaus 4
DESCRIPTION:Sitzung: Bezirksausschuss Bad Fredeburg\nOrt: Kurhaus in Bad Fredeburg, Am Kurhaus 4\nLink: https://ratsinfoservice.de/ris/schmallenberg/meeting/details/1374
END:VEVENT
BEGIN:VEVENT
UID:1366@schieferweg.com
DTSTAMP:20260423T200608Z
DTSTART:20221214T183000
DTEND:20221214T203000
SUMMARY:Bezirksausschuss Bad Fredeburg
LOCATION:Kurhaus in Bad Fredeburg, Am Kurhaus 4
DESCRIPTION:Sitzung: Bezirksausschuss Bad Fredeburg\nOrt: Kurhaus in Bad Fredeburg, Am Kurhaus 4\nLink: https://ratsinfoservice.de/ris/schmallenberg/meeting/details/1366
END:VEVENT
BEGIN:VEVENT
UID:1356@schieferweg.com
DTSTAMP:20260423T200608Z
DTSTART:20221116T180000
DTEND:20221116T200000
SUMMARY:Bezirksausschuss Bad Fredeburg
LOCATION:Kurhaus in Bad Fredeburg, Am Kurhaus 4
DESCRIPTION:Sitzung: Bezirksausschuss Bad Fredeburg\nOrt: Kurhaus in Bad Fredeburg, Am Kurhaus 4\nLink: https://ratsinfoservice.de/ris/schmallenberg/meeting/details/1356
END:VEVENT
BEGIN:VEVENT
UID:1336@schieferweg.com
DTSTAMP:20260423T200608Z
DTSTART:20220907T183000
DTEND:20220907T203000
SUMMARY:Bezirksausschuss Bad Fredeburg
LOCATION:Kurhaus in Bad Fredeburg, Am Kurhaus 4
DESCRIPTION:Sitzung: Bezirksausschuss Bad Fredeburg\nOrt: Kurhaus in Bad Fredeburg, Am Kurhaus 4\nLink: https://ratsinfoservice.de/ris/schmallenberg/meeting/details/1336
END:VEVENT
BEGIN:VEVENT
UID:1314@schieferweg.com
DTSTAMP:20260423T200608Z
DTSTART:20220601T180000
DTEND:20220601T200000
SUMMARY:Bezirksausschuss Bad Fredeburg
LOCATION:Kurhaus in Bad Fredeburg, Am Kurhaus 4
DESCRIPTION:Sitzung: Bezirksausschuss Bad Fredeburg\nOrt: Kurhaus in Bad Fredeburg, Am Kurhaus 4\nLink: https://ratsinfoservice.de/ris/schmallenberg/meeting/details/1314
END:VEVENT
BEGIN:VEVENT
UID:1308@schieferweg.com
DTSTAMP:20260423T200608Z
DTSTART:20220405T180000
DTEND:20220405T200000
SUMMARY:Bezirksausschuss Bad Fredeburg
LOCATION:Kurhaus in Bad Fredeburg, Am Kurhaus 4
DESCRIPTION:Sitzung: Bezirksausschuss Bad Fredeburg\nOrt: Kurhaus in Bad Fredeburg, Am Kurhaus 4\nLink: https://ratsinfoservice.de/ris/schmallenberg/meeting/details/1308
END:VEVENT
BEGIN:VEVENT
UID:1282@schieferweg.com
DTSTAMP:20260423T200608Z
DTSTART:20211124T180600
DTEND:20211124T200600
SUMMARY:Bezirksausschuss Bad Fredeburg
LOCATION:Kurhaus in Bad Fredeburg, Am Kurhaus 4
DESCRIPTION:Sitzung: Bezirksausschuss Bad Fredeburg\nOrt: Kurhaus in Bad Fredeburg, Am Kurhaus 4\nLink: https://ratsinfoservice.de/ris/schmallenberg/meeting/details/1282
END:VEVENT
BEGIN:VEVENT
UID:1255@schieferweg.com
DTSTAMP:20260423T200608Z
DTSTART:20211028T180000
DTEND:20211028T200000
SUMMARY:Bezirksausschuss Bad Fredeburg
LOCATION:Kurhaus in Bad Fredeburg, Am Kurhaus 4
DESCRIPTION:Sitzung: Bezirksausschuss Bad Fredeburg\nOrt: Kurhaus in Bad Fredeburg, Am Kurhaus 4\nLink: https://ratsinfoservice.de/ris/schmallenberg/meeting/details/1255
END:VEVENT
BEGIN:VEVENT
UID:1253@schieferweg.com
DTSTAMP:20260423T200608Z
DTSTART:20210824T180000
DTEND:20210824T200000
SUMMARY:Bezirksausschuss Bad Fredeburg
LOCATION:Stadthalle in Schmallenberg, Paul-Falke-Platz 6
DESCRIPTION:Sitzung: Bezirksausschuss Bad Fredeburg\nOrt: Stadthalle in Schmallenberg, Paul-Falke-Platz 6\nLink: https://ratsinfoservice.de/ris/schmallenberg/meeting/details/1253
END:VEVENT
BEGIN:VEVENT
UID:1231@schieferweg.com
DTSTAMP:20260423T200608Z
DTSTART:20210609T180500
DTEND:20210609T200500
SUMMARY:Bezirksausschuss Bad Fredeburg
LOCATION:Musikbildungszentrum Südwestfalen, Raum: ..., Johannes-Hummel-Weg 1, Bad Fredeburg
DESCRIPTION:Sitzung: Bezirksausschuss Bad Fredeburg\nOrt: Musikbildungszentrum Südwestfalen, Raum: ..., Johannes-Hummel-Weg 1, Bad Fredeburg\nLink: https://ratsinfoservice.de/ris/schmallenberg/meeting/details/1231
END:VEVENT
BEGIN:VEVENT
UID:1225@schieferweg.com
DTSTAMP:20260423T200608Z
DTSTART:20210330T180000
DTEND:20210330T200000
SUMMARY:Bezirksausschuss Bad Fredeburg
LOCATION:Kurhaus in Bad Fredeburg, Am Kurhaus 4
DESCRIPTION:Sitzung: Bezirksausschuss Bad Fredeburg\nOrt: Kurhaus in Bad Fredeburg, Am Kurhaus 4\nLink: https://ratsinfoservice.de/ris/schmallenberg/meeting/details/1225
END:VEVENT
BEGIN:VEVENT
UID:1210@schieferweg.com
DTSTAMP:20260423T200608Z
DTSTART:20210303T173000
DTEND:20210303T193000
SUMMARY:Bezirksausschuss Bad Fredeburg
LOCATION:Kurhaus in Bad Fredeburg, Am Kurhaus 4
DESCRIPTION:Sitzung: Bezirksausschuss Bad Fredeburg\nOrt: Kurhaus in Bad Fredeburg, Am Kurhaus 4\nLink: https://ratsinfoservice.de/ris/schmallenberg/meeting/details/1210
END:VEVENT
BEGIN:VEVENT
UID:1197@schieferweg.com
DTSTAMP:20260423T200608Z
DTSTART:20210119T173000
DTEND:20210119T193000
SUMMARY:Bezirksausschuss Bad Fredeburg
LOCATION:Kurhaus in Bad Fredeburg, Am Kurhaus 4
DESCRIPTION:Sitzung: Bezirksausschuss Bad Fredeburg\nOrt: Kurhaus in Bad Fredeburg, Am Kurhaus 4\nLink: https://ratsinfoservice.de/ris/schmallenberg/meeting/details/1197
END:VEVENT
BEGIN:VEVENT
UID:1155@schieferweg.com
DTSTAMP:20260423T200608Z
DTSTART:20200612T140000
DTEND:20200612T160000
SUMMARY:Bezirksausschuss Bad Fredeburg
LOCATION:Kurhaus in Bad Fredeburg, Am Kurhaus 4
DESCRIPTION:Sitzung: Bezirksausschuss Bad Fredeburg\nOrt: Kurhaus in Bad Fredeburg, Am Kurhaus 4\nLink: https://ratsinfoservice.de/ris/schmallenberg/meeting/details/1155
END:VEVENT
BEGIN:VEVENT
UID:1132@schieferweg.com
DTSTAMP:20260423T200608Z
DTSTART:20200213T180000
DTEND:20200213T200000
SUMMARY:Bezirksausschuss Bad Fredeburg
LOCATION:Kurhaus in Bad Fredeburg, Am Kurhaus 4
DESCRIPTION:Sitzung: Bezirksausschuss Bad Fredeburg\nOrt: Kurhaus in Bad Fredeburg, Am Kurhaus 4\nLink: https://ratsinfoservice.de/ris/schmallenberg/meeting/details/1132
END:VEVENT
BEGIN:VEVENT
UID:556@schieferweg.com
DTSTAMP:20260423T200608Z
DTSTART;VALUE=DATE:20110613
DTEND;VALUE=DATE:20110613
SUMMARY:Bezirksausschuss Bad Fredeburg
LOCATION:
DESCRIPTION:Sitzung: Bezirksausschuss Bad Fredeburg\nOrt: \nLink: https://ratsinfoservice.de/ris/schmallenberg/meeting/details/556
END:VEVENT
BEGIN:VEVENT
UID:407@schieferweg.com
DTSTAMP:20260423T200608Z
DTSTART;VALUE=DATE:20080904
DTEND;VALUE=DATE:20080904
SUMMARY:Bezirksausschuss Bad Fredeburg
LOCATION:
DESCRIPTION:Sitzung: Bezirksausschuss Bad Fredeburg\nOrt: \nLink: https://ratsinfoservice.de/ris/schmallenberg/meeting/details/407
END:VEVENT
BEGIN:VEVENT
UID:1603@schieferweg.com
DTSTAMP:20260423T200608Z
DTSTART:20260422T180000
DTEND:20260422T200000
SUMMARY:Bezirksausschuss Bad Fredeburg
LOCATION:Kurhaus in Bad Fredeburg, Am Kurhaus 4
DESCRIPTION:Sitzung: Bezirksausschuss Bad Fredeburg\nOrt: Kurhaus in Bad Fredeburg, Am Kurhaus 4\nLink: https://ratsinfoservice.de/ris/schmallenberg/meeting/details/1603
END:VEVENT
END:VCALENDAR