BEGIN:VCALENDAR
VERSION:2.0
PRODID:-//Anliegergemeinschaft Schieferweg//DE
CALSCALE:GREGORIAN
METHOD:PUBLISH
X-WR-CALNAME:Schieferweg - Ausschuss für Technik und Umwelt
X-WR-TIMEZONE:Europe/Berlin
REFRESH-INTERVAL;VALUE=DURATION:PT2H
X-PUBLISHED-TTL:PT2H
BEGIN:VEVENT
UID:1593@schieferweg.com
DTSTAMP:20260423T200607Z
DTSTART:20260317T180100
DTEND:20260317T200100
SUMMARY:Ausschuss für Technik und Umwelt
LOCATION:Sitzungsraum des Rathauses in Schmallenberg, Unterm Werth 1
DESCRIPTION:Sitzung: Ausschuss für Technik und Umwelt\nOrt: Sitzungsraum des Rathauses in Schmallenberg, Unterm Werth 1\nLink: https://ratsinfoservice.de/ris/schmallenberg/meeting/details/1593
END:VEVENT
BEGIN:VEVENT
UID:1587@schieferweg.com
DTSTAMP:20260423T200607Z
DTSTART:20260127T180000
DTEND:20260127T200000
SUMMARY:Ausschuss für Technik und Umwelt
LOCATION:Kleiner Saal im 1. OG der Stadthalle in Schmallenberg, Paul-Falke-Platz 6
DESCRIPTION:Sitzung: Ausschuss für Technik und Umwelt\nOrt: Kleiner Saal im 1. OG der Stadthalle in Schmallenberg, Paul-Falke-Platz 6\nLink: https://ratsinfoservice.de/ris/schmallenberg/meeting/details/1587
END:VEVENT
BEGIN:VEVENT
UID:1606@schieferweg.com
DTSTAMP:20260423T200607Z
DTSTART:20260429T180000
DTEND:20260429T200000
SUMMARY:Ausschuss für Technik und Umwelt
LOCATION:Sitzungsraum des Rathauses in Schmallenberg, Unterm Werth 1
DESCRIPTION:Sitzung: Ausschuss für Technik und Umwelt\nOrt: Sitzungsraum des Rathauses in Schmallenberg, Unterm Werth 1\nLink: https://ratsinfoservice.de/ris/schmallenberg/meeting/details/1606
END:VEVENT
END:VCALENDAR